BEGIN:VCALENDAR
VERSION:2.0
PRODID:-//ChamberMaster//Event Calendar 2.0//EN
METHOD:PUBLISH
X-PUBLISHED-TTL:P3D
REFRESH-INTERVAL:P3D
CALSCALE:GREGORIAN
BEGIN:VEVENT
DTSTART:20221111T233000Z
DTEND:20221112T013000Z
X-MICROSOFT-CDO-ALLDAYEVENT:FALSE
SUMMARY:Veterans Day Appreciation Banquet
DESCRIPTION:Veterans Appreciation Banquet honoring Crockett County veterans from all branches of the armed forces.\n\nAlso\, please visit our Crockett County Museum to see the Veteran's Exhibit.\n\nThe Museum is open from 9:00 a.m.-5:00 p.m. weekdays.
X-ALT-DESC;FMTTYPE=text/html:Veterans Appreciation Banquet honoring Crockett County veterans from all branches of the armed forces.<br />\nAlso\, please visit&nbsp\;our Crockett County Museum to see the Veteran&#39\;s Exhibit.<br />\nThe Museum is open from 9:00 a.m.-5:00 p.m. weekdays.<br />\n<br />\n<br />\n<br />\n<br />\n<br />\n&nbsp\;
LOCATION:Crockett County Civic Center 103 Medical Drive (corner of Avenue H & 1st Street) Ozona
UID:e.516.4546
SEQUENCE:3
DTSTAMP:20260424T013958Z
URL:https://business.ozona.com/events/details/veterans-day-appreciation-banquet-4546
END:VEVENT

END:VCALENDAR
