BEGIN:VCALENDAR
VERSION:2.0
PRODID:-//ChamberMaster//Event Calendar 2.0//EN
METHOD:PUBLISH
X-PUBLISHED-TTL:P3D
REFRESH-INTERVAL:P3D
CALSCALE:GREGORIAN
BEGIN:VEVENT
DTSTART;VALUE=DATE:20260427
DTEND;VALUE=DATE:20260428
TRANSP:TRANSPARENT
X-MICROSOFT-CDO-ALLDAYEVENT:TRUE
SUMMARY:Science Night @ the Library
DESCRIPTION:Join OHS Science teachers and students at CCPL to an owl pellet dissection.
X-ALT-DESC;FMTTYPE=text/html:Join OHS Science teachers and students at CCPL to an owl pellet dissection.
LOCATION:Crockett County Public Library
UID:e.516.5399
SEQUENCE:3
DTSTAMP:20260421T004457Z
URL:https://business.ozona.com/events/details/science-night-the-library-5399
END:VEVENT

END:VCALENDAR
