BEGIN:VCALENDAR
VERSION:2.0
PRODID:-//ChamberMaster//Event Calendar 2.0//EN
METHOD:PUBLISH
X-PUBLISHED-TTL:P3D
REFRESH-INTERVAL:P3D
CALSCALE:GREGORIAN
BEGIN:VEVENT
DTSTART:20240210T010000Z
DTEND:20240210T030000Z
X-MICROSOFT-CDO-ALLDAYEVENT:FALSE
SUMMARY:Ozona Middle School Valentine Dance
DESCRIPTION:Location: Ozona Middle School Gym
X-ALT-DESC;FMTTYPE=text/html:Location: Ozona Middle School Gym
LOCATION:
UID:e.516.4829
SEQUENCE:3
DTSTAMP:20260422T231746Z
URL:https://business.ozona.com/events/details/ozona-middle-school-valentine-dance-4829
END:VEVENT

END:VCALENDAR
