BEGIN:VCALENDAR
VERSION:2.0
PRODID:-//ChamberMaster//Event Calendar 2.0//EN
METHOD:PUBLISH
X-PUBLISHED-TTL:P3D
REFRESH-INTERVAL:P3D
CALSCALE:GREGORIAN
BEGIN:VEVENT
DTSTART;VALUE=DATE:20260521
DTEND;VALUE=DATE:20260522
TRANSP:TRANSPARENT
X-MICROSOFT-CDO-ALLDAYEVENT:TRUE
SUMMARY:Ozona Middle School 8th Grade Graduation
DESCRIPTION:8th Grade Graduation
X-ALT-DESC;FMTTYPE=text/html:8th Grade Graduation
LOCATION:Ozona High School Auditorium
UID:e.516.5397
SEQUENCE:3
DTSTAMP:20260421T081338Z
URL:https://business.ozona.com/events/details/ozona-middle-school-8th-grade-graduation-5397
END:VEVENT

END:VCALENDAR
