BEGIN:VCALENDAR
VERSION:2.0
PRODID:-//ChamberMaster//Event Calendar 2.0//EN
METHOD:PUBLISH
X-PUBLISHED-TTL:P3D
REFRESH-INTERVAL:P3D
CALSCALE:GREGORIAN
BEGIN:VEVENT
DTSTART;VALUE=DATE:20251112
DTEND;VALUE=DATE:20251113
TRANSP:TRANSPARENT
X-MICROSOFT-CDO-ALLDAYEVENT:TRUE
SUMMARY:Ozona FFA Concho District LDE Contest
DESCRIPTION:
X-ALT-DESC;FMTTYPE=text/html:
LOCATION:Robert Lee HS Robert Lee\, TX
UID:e.516.5131
SEQUENCE:3
DTSTAMP:20260420T084200Z
URL:https://business.ozona.com/events/details/ozona-ffa-concho-district-lde-contest-5131
END:VEVENT

END:VCALENDAR
