BEGIN:VCALENDAR
VERSION:2.0
PRODID:-//ChamberMaster//Event Calendar 2.0//EN
METHOD:PUBLISH
X-PUBLISHED-TTL:P3D
REFRESH-INTERVAL:P3D
CALSCALE:GREGORIAN
BEGIN:VEVENT
DTSTART:20240409T220000Z
DTEND:20240410T020000Z
X-MICROSOFT-CDO-ALLDAYEVENT:FALSE
SUMMARY:OHS Baseball at Eldorado
DESCRIPTION:
X-ALT-DESC;FMTTYPE=text/html:
LOCATION:
UID:e.516.4724
SEQUENCE:3
DTSTAMP:20260421T190604Z
URL:https://business.ozona.com/events/details/ohs-baseball-at-eldorado-4724
END:VEVENT

END:VCALENDAR
