BEGIN:VCALENDAR
VERSION:2.0
PRODID:-//ChamberMaster//Event Calendar 2.0//EN
METHOD:PUBLISH
X-PUBLISHED-TTL:P3D
REFRESH-INTERVAL:P3D
CALSCALE:GREGORIAN
BEGIN:VEVENT
DTSTART;VALUE=DATE:20260415
DTEND;VALUE=DATE:20260501
TRANSP:TRANSPARENT
X-MICROSOFT-CDO-ALLDAYEVENT:TRUE
SUMMARY:Crockett County Spring Clean Up
DESCRIPTION:Place household items\, furniture\, appliances\, in the front or behind your home on the county road for pick up.
X-ALT-DESC;FMTTYPE=text/html:Place household items\, furniture\, appliances\, in the front or behind your home on the county road for pick up.&nbsp\;
LOCATION:
UID:e.516.5402
SEQUENCE:3
DTSTAMP:20260421T022003Z
URL:https://business.ozona.com/events/details/crockett-county-spring-clean-up-5402
END:VEVENT

END:VCALENDAR
