BEGIN:VCALENDAR
VERSION:2.0
PRODID:-//ChamberMaster//Event Calendar 2.0//EN
METHOD:PUBLISH
X-PUBLISHED-TTL:P3D
REFRESH-INTERVAL:P3D
CALSCALE:GREGORIAN
BEGIN:VEVENT
DTSTART;VALUE=DATE:20260505
DTEND;VALUE=DATE:20260506
TRANSP:TRANSPARENT
X-MICROSOFT-CDO-ALLDAYEVENT:TRUE
SUMMARY:Cinco de Mayo Fiesta & Car Show
DESCRIPTION:Neighborhood party and Car Show for Cinco de Mayo!\n\nMany vendors and much more fun. Music by DJ TKO.\n\nBring your lawn chair.
X-ALT-DESC;FMTTYPE=text/html:Neighborhood party and Car Show for Cinco de Mayo!<br />\nMany vendors and much more fun. Music by DJ TKO.<br />\nBring your lawn chair.
LOCATION:Ozona Chamber of Commerce
UID:e.516.5400
SEQUENCE:3
DTSTAMP:20260421T005238Z
URL:https://business.ozona.com/events/details/cinco-de-mayo-fiesta-car-show-5400
END:VEVENT

END:VCALENDAR
