BEGIN:VCALENDAR
VERSION:2.0
PRODID:-//ChamberMaster//Event Calendar 2.0//EN
METHOD:PUBLISH
X-PUBLISHED-TTL:P3D
REFRESH-INTERVAL:P3D
CALSCALE:GREGORIAN
BEGIN:VEVENT
DTSTART;VALUE=DATE:20260508
DTEND;VALUE=DATE:20260509
TRANSP:TRANSPARENT
X-MICROSOFT-CDO-ALLDAYEVENT:TRUE
SUMMARY:Botox\, Boost\, & Brunch w/ Thrive Wellness
DESCRIPTION:Mother's Day Special.\n\nBotox (limited spots). Wellness Shots. Skinny Shots.
X-ALT-DESC;FMTTYPE=text/html:Mother&#39\;s Day Special.<br />\nBotox (limited spots).&nbsp\;Wellness Shots. Skinny Shots.&nbsp\;
LOCATION:Ozona Chamber of Commerce Conference Room.
UID:e.516.5401
SEQUENCE:3
DTSTAMP:20260421T060239Z
URL:https://business.ozona.com/events/details/botox-boost-brunch-w-thrive-wellness-5401
END:VEVENT

END:VCALENDAR
