BEGIN:VCALENDAR
VERSION:2.0
PRODID:-//ChamberMaster//Event Calendar 2.0//EN
METHOD:PUBLISH
X-PUBLISHED-TTL:P3D
REFRESH-INTERVAL:P3D
CALSCALE:GREGORIAN
BEGIN:VEVENT
DTSTART:20240228T230000Z
DTEND:20240229T000000Z
X-MICROSOFT-CDO-ALLDAYEVENT:FALSE
SUMMARY:4-H Rabbit Meeting for San Angelo Showers
DESCRIPTION:Crockett County Extension Office\, 1303 Avenue AA\n\nFMI (325) 392-2721
X-ALT-DESC;FMTTYPE=text/html:Crockett County Extension Office\, 1303 Avenue AA<br />\nFMI (325) 392-2721
LOCATION:
UID:e.516.4814
SEQUENCE:3
DTSTAMP:20260424T033355Z
URL:https://business.ozona.com/events/details/4-h-rabbit-meeting-for-san-angelo-showers-02-28-2024-4814
END:VEVENT

END:VCALENDAR
